BEGIN:VCALENDAR
VERSION:2.0
PRODID:-//eventon.com NONSGML v1.0//EN
BEGIN:VEVENT
UID:69e9dfbcd6abc
DTSTAMP:20260423T110044
DTSTART:20231128T220000Z
DTEND:20231129T215900Z
LOCATION:
SUMMARY:Barcamp | JuBeL im Spätherbst (Jugendbeteiligung in der Lausitz)
DESCRIPTION: .
END:VEVENT
END:VCALENDAR